BEGIN:VCALENDAR
PRODID:-//eluceo/ical//2.0/EN
VERSION:2.0
CALSCALE:GREGORIAN
BEGIN:VEVENT
UID:b96f6d5476dc2e5d76ac6d2550692dd6
DTSTAMP:20260421T212534Z
SUMMARY:Consegna PHF
DESCRIPTION:Site internet: https://loverciano.ch
URL:https://rotary-mendrisiotto.ch/fr/agenda/show/137335
DTSTART;TZID=Europe/Zurich:20220428T190000
DTEND;TZID=Europe/Zurich:20220428T213000
LOCATION:Istituto S Angelo Loverciano\, Via Loverciano 2\, 6874 Castel San 
 Pietro\, Svizzera
CATEGORIES:Rotary
END:VEVENT
BEGIN:VTIMEZONE
TZID:Europe/Zurich
BEGIN:DAYLIGHT
DTSTART:20220428T190000
TZNAME:CEST
TZOFFSETTO:+0200
TZOFFSETFROM:+0200
END:DAYLIGHT
END:VTIMEZONE
END:VCALENDAR
