BEGIN:VCALENDAR
PRODID:-//eluceo/ical//2.0/EN
VERSION:2.0
CALSCALE:GREGORIAN
BEGIN:VEVENT
UID:791aa0169bfedd0c1d967f417ecc8c60
DTSTAMP:20260423T130549Z
SUMMARY:REAL BODIES
DESCRIPTION:Site internet: https://www.realbodies.ch\nConférencier(s): Vis
 ita esclusiva per il club\, audioguide e spiegazione al tavolo inclusi. SI
  RACCOMANDA LA PUNTUALITA' h 18\,30 TASSATIVO
URL:https://rotary-mendrisiotto.ch/fr/agenda/show/137332
DTSTART;TZID=Europe/Zurich:20220217T183000
DTEND;TZID=Europe/Zurich:20220217T203000
LOCATION:centro esposizioni Lugano Via Campo Marzio
CATEGORIES:Rotary
END:VEVENT
BEGIN:VTIMEZONE
TZID:Europe/Zurich
BEGIN:STANDARD
DTSTART:20220217T183000
TZNAME:CET
TZOFFSETTO:+0100
TZOFFSETFROM:+0100
END:STANDARD
END:VTIMEZONE
END:VCALENDAR
