BEGIN:VCALENDAR
PRODID:-//eluceo/ical//2.0/EN
VERSION:2.0
CALSCALE:GREGORIAN
BEGIN:VEVENT
UID:424e7511d0cfe9dbd7d44738c8e1cd4a
DTSTAMP:20260421T180309Z
SUMMARY:come stanno le "nostre" api ?
DESCRIPTION:Site internet: https://loverciano.ch\nConférencier(s): Oreste
URL:https://rotary-mendrisiotto.ch/fr/agenda/show/133640
DTSTART;TZID=Europe/Zurich:20211016T143000
DTEND;TZID=Europe/Zurich:20211016T160000
LOCATION:Istituto S Angelo Loverciano\, Via Loverciano 2\, 6874 Castel San 
 Pietro\, Svizzera
CATEGORIES:Rotary
END:VEVENT
BEGIN:VTIMEZONE
TZID:Europe/Zurich
BEGIN:DAYLIGHT
DTSTART:20211016T143000
TZNAME:CEST
TZOFFSETTO:+0200
TZOFFSETFROM:+0200
END:DAYLIGHT
END:VTIMEZONE
END:VCALENDAR
