BEGIN:VCALENDAR
PRODID:-//eluceo/ical//2.0/EN
VERSION:2.0
CALSCALE:GREGORIAN
BEGIN:VEVENT
UID:8abc4b435b22ec0e3200a77372321eee
DTSTAMP:20260421T214054Z
SUMMARY:un Giovedì da LEONI
DESCRIPTION:
URL:https://rotary-mendrisiotto.ch/fr/agenda/show/129767
DTSTART;TZID=Europe/Zurich:20220512T183000
DTEND;TZID=Europe/Zurich:20220512T223000
LOCATION:Mercato Coperto\, Mendrisio
CATEGORIES:Rotary
END:VEVENT
BEGIN:VTIMEZONE
TZID:Europe/Zurich
BEGIN:DAYLIGHT
DTSTART:20220512T183000
TZNAME:CEST
TZOFFSETTO:+0200
TZOFFSETFROM:+0200
END:DAYLIGHT
END:VTIMEZONE
END:VCALENDAR
