BEGIN:VCALENDAR
PRODID:-//eluceo/ical//2.0/EN
VERSION:2.0
CALSCALE:GREGORIAN
BEGIN:VEVENT
UID:1da000d81eae8c6237e5d1c6b1120805
DTSTAMP:20260422T004412Z
SUMMARY:mercoledì 18 marzo 2020
DESCRIPTION:ANNULLATO
URL:https://rotary-mendrisiotto.ch/fr/agenda/show/111114
DTSTART;TZID=Europe/Zurich:20200318T180000
DTEND;TZID=Europe/Zurich:20200318T220000
LOCATION:Conservatorio Lugano
CATEGORIES:Rotary
END:VEVENT
BEGIN:VTIMEZONE
TZID:Europe/Zurich
BEGIN:STANDARD
DTSTART:20200318T180000
TZNAME:CET
TZOFFSETTO:+0100
TZOFFSETFROM:+0100
END:STANDARD
END:VTIMEZONE
END:VCALENDAR
