BEGIN:VCALENDAR
PRODID:-//eluceo/ical//2.0/EN
VERSION:2.0
CALSCALE:GREGORIAN
BEGIN:VEVENT
UID:bfd12e2ee3e9269bdeb816ae5ac9bb16
DTSTAMP:20260422T020659Z
SUMMARY:giovedì 12 marzo 2020
DESCRIPTION:ANNULLATO
URL:https://rotary-mendrisiotto.ch/fr/agenda/show/108331
DTSTART;TZID=Europe/Zurich:20200312T121500
DTEND;TZID=Europe/Zurich:20200312T141500
LOCATION:Hotel Coronado
CATEGORIES:Rotary
END:VEVENT
BEGIN:VTIMEZONE
TZID:Europe/Zurich
BEGIN:STANDARD
DTSTART:20200312T121500
TZNAME:CET
TZOFFSETTO:+0100
TZOFFSETFROM:+0100
END:STANDARD
END:VTIMEZONE
END:VCALENDAR
