BEGIN:VCALENDAR
PRODID:-//eluceo/ical//2.0/EN
VERSION:2.0
CALSCALE:GREGORIAN
BEGIN:VEVENT
UID:37a56d03b3b3cba1d5f56a7eb9a4ae05
DTSTAMP:20260422T021314Z
SUMMARY:giovedì 27 febbraio 2020
DESCRIPTION:aperitivo in sede
URL:https://rotary-mendrisiotto.ch/fr/agenda/show/108329
DTSTART;TZID=Europe/Zurich:20200227T183000
DTEND;TZID=Europe/Zurich:20200227T210000
LOCATION:Hotel Coronado
CATEGORIES:Rotary
END:VEVENT
BEGIN:VTIMEZONE
TZID:Europe/Zurich
BEGIN:STANDARD
DTSTART:20200227T183000
TZNAME:CET
TZOFFSETTO:+0100
TZOFFSETFROM:+0100
END:STANDARD
END:VTIMEZONE
END:VCALENDAR
