BEGIN:VCALENDAR
PRODID:-//eluceo/ical//2.0/EN
VERSION:2.0
CALSCALE:GREGORIAN
BEGIN:VEVENT
UID:b3b48435c0ef5ebc32dd635a1c547ad2
DTSTAMP:20260422T061959Z
SUMMARY:giovedì 20 febbraio 2020
DESCRIPTION:apericena in sede con relatore Daniele Foletti\, Mani per il Ne
 pal
URL:https://rotary-mendrisiotto.ch/fr/agenda/show/108328
DTSTART;TZID=Europe/Zurich:20200220T191500
DTEND;TZID=Europe/Zurich:20200220T220000
LOCATION:Hotel Coronado
CATEGORIES:Rotary
END:VEVENT
BEGIN:VTIMEZONE
TZID:Europe/Zurich
BEGIN:STANDARD
DTSTART:20200220T191500
TZNAME:CET
TZOFFSETTO:+0100
TZOFFSETFROM:+0100
END:STANDARD
END:VTIMEZONE
END:VCALENDAR
