BEGIN:VCALENDAR
PRODID:-//eluceo/ical//2.0/EN
VERSION:2.0
CALSCALE:GREGORIAN
BEGIN:VEVENT
UID:5e26ff6ed8daa0cba0c498e15d149331
DTSTAMP:20260422T105238Z
SUMMARY:giovedì 13 febbraio 2020
DESCRIPTION:pranzo in sede
URL:https://rotary-mendrisiotto.ch/fr/agenda/show/108327
DTSTART;TZID=Europe/Zurich:20200213T121500
DTEND;TZID=Europe/Zurich:20200213T141500
LOCATION:Hotel Coronado
CATEGORIES:Rotary
END:VEVENT
BEGIN:VTIMEZONE
TZID:Europe/Zurich
BEGIN:STANDARD
DTSTART:20200213T121500
TZNAME:CET
TZOFFSETTO:+0100
TZOFFSETFROM:+0100
END:STANDARD
END:VTIMEZONE
END:VCALENDAR
