BEGIN:VCALENDAR
PRODID:-//eluceo/ical//2.0/EN
VERSION:2.0
CALSCALE:GREGORIAN
BEGIN:VEVENT
UID:5caa0e803ad75fffeb05bbb6fbca5c58
DTSTAMP:20260422T150802Z
SUMMARY:giovedì 6 febbraio 2020
DESCRIPTION:uscita presso la Filanda\, Mendrisio.\n\nCena in loco con cater
 ing da Ateneo del vino
URL:https://rotary-mendrisiotto.ch/fr/agenda/show/108326
DTSTART;TZID=Europe/Zurich:20200206T191500
DTEND;TZID=Europe/Zurich:20200206T220000
LOCATION:Filanda\, Mendrisio
CATEGORIES:Rotary
END:VEVENT
BEGIN:VTIMEZONE
TZID:Europe/Zurich
BEGIN:STANDARD
DTSTART:20200206T191500
TZNAME:CET
TZOFFSETTO:+0100
TZOFFSETFROM:+0100
END:STANDARD
END:VTIMEZONE
END:VCALENDAR
