BEGIN:VCALENDAR
PRODID:-//eluceo/ical//2.0/EN
VERSION:2.0
CALSCALE:GREGORIAN
BEGIN:VEVENT
UID:b93817aaef29e296357d9534728b611c
DTSTAMP:20260425T163725Z
SUMMARY:giovedì 23 gennaio 2020
DESCRIPTION:pranzo in sede
URL:https://rotary-mendrisiotto.ch/fr/agenda/show/108324
DTSTART;TZID=Europe/Zurich:20200123T121500
DTEND;TZID=Europe/Zurich:20200123T141500
LOCATION:Hotel Coronado
CATEGORIES:Rotary
END:VEVENT
BEGIN:VTIMEZONE
TZID:Europe/Zurich
BEGIN:STANDARD
DTSTART:20200123T121500
TZNAME:CET
TZOFFSETTO:+0100
TZOFFSETFROM:+0100
END:STANDARD
END:VTIMEZONE
END:VCALENDAR
