BEGIN:VCALENDAR
PRODID:-//eluceo/ical//2.0/EN
VERSION:2.0
CALSCALE:GREGORIAN
BEGIN:VEVENT
UID:4f93f213741d980b35b8da3fdb511b1f
DTSTAMP:20260425T145648Z
SUMMARY:giovedì 16 gennaio 2020
DESCRIPTION:cena in sede con relatore Salvatore Maria Fares
URL:https://rotary-mendrisiotto.ch/fr/agenda/show/108323
DTSTART;TZID=Europe/Zurich:20200116T191500
DTEND;TZID=Europe/Zurich:20200116T220000
LOCATION:Hotel Coronado
CATEGORIES:Rotary
END:VEVENT
BEGIN:VTIMEZONE
TZID:Europe/Zurich
BEGIN:STANDARD
DTSTART:20200116T191500
TZNAME:CET
TZOFFSETTO:+0100
TZOFFSETFROM:+0100
END:STANDARD
END:VTIMEZONE
END:VCALENDAR
