BEGIN:VCALENDAR
PRODID:-//eluceo/ical//2.0/EN
VERSION:2.0
CALSCALE:GREGORIAN
BEGIN:VEVENT
UID:85a8f0c0dea92c53a2e7edab0597543c
DTSTAMP:20260422T073629Z
SUMMARY:giovedì 12 dicembre 2019
DESCRIPTION:Cena Natalizia
URL:https://rotary-mendrisiotto.ch/fr/agenda/show/103285
DTSTART;TZID=Europe/Zurich:20191212T191500
DTEND;TZID=Europe/Zurich:20191212T221500
LOCATION:-
CATEGORIES:Rotary
END:VEVENT
BEGIN:VTIMEZONE
TZID:Europe/Zurich
BEGIN:STANDARD
DTSTART:20191212T191500
TZNAME:CET
TZOFFSETTO:+0100
TZOFFSETFROM:+0100
END:STANDARD
END:VTIMEZONE
END:VCALENDAR
