BEGIN:VCALENDAR
PRODID:-//eluceo/ical//2.0/EN
VERSION:2.0
CALSCALE:GREGORIAN
BEGIN:VEVENT
UID:84169dc1c6e423bf5d87a81812cfcd63
DTSTAMP:20260423T055208Z
SUMMARY:giovedì 14 novembre 2019
DESCRIPTION:cena autunnale piemontese
URL:https://rotary-mendrisiotto.ch/fr/agenda/show/103281
DTSTART;TZID=Europe/Zurich:20191114T191500
DTEND;TZID=Europe/Zurich:20191114T213000
LOCATION:Hotel Coronado
CATEGORIES:Rotary
END:VEVENT
BEGIN:VTIMEZONE
TZID:Europe/Zurich
BEGIN:STANDARD
DTSTART:20191114T191500
TZNAME:CET
TZOFFSETTO:+0100
TZOFFSETFROM:+0100
END:STANDARD
END:VTIMEZONE
END:VCALENDAR
