BEGIN:VCALENDAR
PRODID:-//eluceo/ical//2.0/EN
VERSION:2.0
CALSCALE:GREGORIAN
BEGIN:VEVENT
UID:f8eed55de06ed5fb092f81d59f7224f3
DTSTAMP:20260423T142606Z
SUMMARY:giovedì 31 ottobre 2019
DESCRIPTION:caffè conviviale\, prima colazione in sede
URL:https://rotary-mendrisiotto.ch/fr/agenda/show/103278
DTSTART;TZID=Europe/Zurich:20191031T073000
DTEND;TZID=Europe/Zurich:20191031T083000
LOCATION:Hotel Coronado
CATEGORIES:Rotary
END:VEVENT
BEGIN:VTIMEZONE
TZID:Europe/Zurich
BEGIN:STANDARD
DTSTART:20191031T073000
TZNAME:CET
TZOFFSETTO:+0100
TZOFFSETFROM:+0100
END:STANDARD
END:VTIMEZONE
END:VCALENDAR
