BEGIN:VCALENDAR
PRODID:-//eluceo/ical//2.0/EN
VERSION:2.0
CALSCALE:GREGORIAN
BEGIN:VEVENT
UID:bfdb0c61578f045014d56385cb24d235
DTSTAMP:20260423T121109Z
SUMMARY:giovedì 26 marzo 2020
DESCRIPTION:ANNULLATO
URL:https://rotary-mendrisiotto.ch/es/agenda/show/108332
DTSTART;TZID=Europe/Zurich:20200326T183000
DTEND;TZID=Europe/Zurich:20200326T220000
LOCATION:Mercato Coperto Mendrisio
CATEGORIES:Rotary
END:VEVENT
BEGIN:VTIMEZONE
TZID:Europe/Zurich
BEGIN:STANDARD
DTSTART:20200326T183000
TZNAME:CET
TZOFFSETTO:+0100
TZOFFSETFROM:+0100
END:STANDARD
END:VTIMEZONE
END:VCALENDAR
