BEGIN:VCALENDAR
PRODID:-//eluceo/ical//2.0/EN
VERSION:2.0
CALSCALE:GREGORIAN
BEGIN:VEVENT
UID:bbd8500e8f1bf7de33ae592769374de9
DTSTAMP:20260421T164607Z
SUMMARY:giovedì 9 gennaio 2020
DESCRIPTION:Cena in sede con relatore Sandro Grisoni -Ideal Teck SA-
URL:https://rotary-mendrisiotto.ch/es/agenda/show/108322
DTSTART;TZID=Europe/Zurich:20200109T191500
DTEND;TZID=Europe/Zurich:20200109T220000
LOCATION:Hotel Coronado
CATEGORIES:Rotary
END:VEVENT
BEGIN:VTIMEZONE
TZID:Europe/Zurich
BEGIN:STANDARD
DTSTART:20200109T191500
TZNAME:CET
TZOFFSETTO:+0100
TZOFFSETFROM:+0100
END:STANDARD
END:VTIMEZONE
END:VCALENDAR
