BEGIN:VCALENDAR
PRODID:-//eluceo/ical//2.0/EN
VERSION:2.0
CALSCALE:GREGORIAN
BEGIN:VEVENT
UID:5afc30e5436afe8d971467a164157b98
DTSTAMP:20260420T164700Z
SUMMARY:giovedì 5 giugno 2014
DESCRIPTION:La conviviale di oggi non si terrà perchè sostituita con la v
 isita di ieri al Day Hospital di Chiasso\nSpeaker(s): oggi non ci sarà co
 nviviale (sostituita dall'uscita di ieri)
URL:https://rotary-mendrisiotto.ch/en/agenda/show/40063
DTSTART;TZID=Europe/Zurich:20140605T000000
DTEND;TZID=Europe/Zurich:20140605T000000
LOCATION:-
CATEGORIES:Rotary
END:VEVENT
BEGIN:VTIMEZONE
TZID:Europe/Zurich
BEGIN:DAYLIGHT
DTSTART:20140605T000000
TZNAME:CEST
TZOFFSETTO:+0200
TZOFFSETFROM:+0200
END:DAYLIGHT
END:VTIMEZONE
END:VCALENDAR
