BEGIN:VCALENDAR
PRODID:-//eluceo/ical//2.0/EN
VERSION:2.0
CALSCALE:GREGORIAN
BEGIN:VEVENT
UID:ee19ae8fc7d937c31e6188b4908bbd5d
DTSTAMP:20260420T171431Z
SUMMARY:Concerto con tenore F. MELI\, Museo d'arte Mendrisio (da confermare
 )
DESCRIPTION:
URL:https://rotary-mendrisiotto.ch/en/agenda/show/115117
DTSTART;TZID=Europe/Zurich:20201003T180000
DTEND;TZID=Europe/Zurich:20201003T223000
LOCATION:Museo d'arte Mendrisio 
CATEGORIES:Rotary
END:VEVENT
BEGIN:VTIMEZONE
TZID:Europe/Zurich
BEGIN:DAYLIGHT
DTSTART:20201003T180000
TZNAME:CEST
TZOFFSETTO:+0200
TZOFFSETFROM:+0200
END:DAYLIGHT
END:VTIMEZONE
END:VCALENDAR
