BEGIN:VCALENDAR
PRODID:-//eluceo/ical//2.0/EN
VERSION:2.0
CALSCALE:GREGORIAN
BEGIN:VEVENT
UID:af83f60572b64c7d85511a70ff414480
DTSTAMP:20260424T015342Z
SUMMARY:Conviviale al Grotto Eremo San Nicolao\, Somazzo
DESCRIPTION:Webseite: https://www.grottoeremosannicolao.ch/\nReferenten/inn
 en: Visita del santuario e cena al Grotto sulla bellissima visione panoram
 ica del Mendrisiotto
URL:https://rotary-mendrisiotto.ch/de/agenda/show/163774
DTSTART;TZID=Europe/Zurich:20230727T190000
DTEND;TZID=Europe/Zurich:20230727T220000
LOCATION:Grotto Eremo San Nicolao\, Vicolo S. Nicolao 7\, 6872 Somazzo
CATEGORIES:Rotary
END:VEVENT
BEGIN:VTIMEZONE
TZID:Europe/Zurich
BEGIN:DAYLIGHT
DTSTART:20230727T190000
TZNAME:CEST
TZOFFSETTO:+0200
TZOFFSETFROM:+0200
END:DAYLIGHT
END:VTIMEZONE
END:VCALENDAR
