BEGIN:VCALENDAR
PRODID:-//eluceo/ical//2.0/EN
VERSION:2.0
CALSCALE:GREGORIAN
BEGIN:VEVENT
UID:73703fe57f6a7783fa08bacaa4d9a5e6
DTSTAMP:20260422T215308Z
SUMMARY:Apericena nella bellissima tenuta Castello di Morcote
DESCRIPTION:Web stranica: http://castellodimorcote.ch\nGovornik(ci): Aperic
 ena nell’incantevole tenuta con degustazione viniCosto partecipazione so
 ci frs. 45.00Costo ospiti e SOP frs. 90.00
URL:https://rotary-mendrisiotto.ch/bs/agenda/show/180117
DTSTART;TZID=Europe/Zurich:20240711T190000
DTEND;TZID=Europe/Zurich:20240711T220000
LOCATION:Strada al Castel 28 CH-6921 Vico Morcote
CATEGORIES:Rotary
END:VEVENT
BEGIN:VTIMEZONE
TZID:Europe/Zurich
BEGIN:DAYLIGHT
DTSTART:20240711T190000
TZNAME:CEST
TZOFFSETTO:+0200
TZOFFSETFROM:+0200
END:DAYLIGHT
END:VTIMEZONE
END:VCALENDAR
