BEGIN:VCALENDAR
PRODID:-//eluceo/ical//2.0/EN
VERSION:2.0
CALSCALE:GREGORIAN
BEGIN:VEVENT
UID:a3e61409728725f996242389923fc6a6
DTSTAMP:20260422T231618Z
SUMMARY:Visita al Mulino di Maroggia
DESCRIPTION:Web stranica: https://www.mulinomaroggia.ch/it/\nGovornik(ci): 
 Visita al Mulino di Maroggia\, Storia\, produzione e visita a uno dei pi
 ù moderni mulini d’EuropaApericena presso il Mulino
URL:https://rotary-mendrisiotto.ch/bs/agenda/show/168887
DTSTART;TZID=Europe/Zurich:20231130T190000
DTEND;TZID=Europe/Zurich:20231130T220000
LOCATION:Via ai Molini 2\, 6817 Maroggia
CATEGORIES:Rotary
END:VEVENT
BEGIN:VTIMEZONE
TZID:Europe/Zurich
BEGIN:STANDARD
DTSTART:20231130T190000
TZNAME:CET
TZOFFSETTO:+0100
TZOFFSETFROM:+0100
END:STANDARD
END:VTIMEZONE
END:VCALENDAR
