BEGIN:VCALENDAR
PRODID:-//eluceo/ical//2.0/EN
VERSION:2.0
CALSCALE:GREGORIAN
BEGIN:VEVENT
UID:b95b8da133b076d88d1add0c3c6d7cf8
DTSTAMP:20260422T230827Z
SUMMARY:Conviviale presso  sala musica via Vecchio Ginnasio Mendrisio  Con 
 Rotaract
DESCRIPTION:Govornik(ci): Conviviale presso  sala musica via Vecchio Ginnas
 io Mendrisio - Serata con il Rotaract Club Ticino: relazione e concerto di
  pianoforte della Presidente Camilla Domenicucci
URL:https://rotary-mendrisiotto.ch/bs/agenda/show/168886
DTSTART;TZID=Europe/Zurich:20231123T190000
DTEND;TZID=Europe/Zurich:20231123T220000
LOCATION:sala musica via Vecchio Ginnasio Mendrisio
CATEGORIES:Rotary
END:VEVENT
BEGIN:VTIMEZONE
TZID:Europe/Zurich
BEGIN:STANDARD
DTSTART:20231123T190000
TZNAME:CET
TZOFFSETTO:+0100
TZOFFSETFROM:+0100
END:STANDARD
END:VTIMEZONE
END:VCALENDAR
