BEGIN:VCALENDAR
PRODID:-//eluceo/ical//2.0/EN
VERSION:2.0
CALSCALE:GREGORIAN
BEGIN:VEVENT
UID:6388519e802178b96175aa12a64a92cd
DTSTAMP:20260422T230303Z
SUMMARY:Il futuro dei combustibili - Relatore – CEO Socar Svizzera Edgar 
 Bachmann
DESCRIPTION:Web stranica: https://www.hotelcoronado.ch/it/clubhouse/\nGovor
 nik(ci): Il futuro dei combustibili - Relatore – CEO Socar\nSvizzera Edg
 ar Bachmann    
URL:https://rotary-mendrisiotto.ch/bs/agenda/show/167754
DTSTART;TZID=Europe/Zurich:20231102T190000
DTEND;TZID=Europe/Zurich:20231102T220000
LOCATION:Club House Mendrisio
CATEGORIES:Rotary
END:VEVENT
BEGIN:VTIMEZONE
TZID:Europe/Zurich
BEGIN:STANDARD
DTSTART:20231102T190000
TZNAME:CET
TZOFFSETTO:+0100
TZOFFSETFROM:+0100
END:STANDARD
END:VTIMEZONE
END:VCALENDAR
