BEGIN:VCALENDAR
PRODID:-//eluceo/ical//2.0/EN
VERSION:2.0
CALSCALE:GREGORIAN
BEGIN:VEVENT
UID:c23f91852cf1c50bcf46c4986cb36b2b
DTSTAMP:20260422T231955Z
SUMMARY:Conviviale in sede
DESCRIPTION:Web stranica: https://loverciano.ch\nGovornik(ci):   Serata 
 “Su di noi”: temi di attualità del club (nuovi soci\, finanziamenti\,
  progetti)
URL:https://rotary-mendrisiotto.ch/bs/agenda/show/163780
DTSTART;TZID=Europe/Zurich:20230907T190000
DTEND;TZID=Europe/Zurich:20230907T220000
LOCATION:Istituto S Angelo Loverciano\, Via Loverciano 2\, 6874 Castel San 
 Pietro\, Svizzera
CATEGORIES:Rotary
END:VEVENT
BEGIN:VTIMEZONE
TZID:Europe/Zurich
BEGIN:DAYLIGHT
DTSTART:20230907T190000
TZNAME:CEST
TZOFFSETTO:+0200
TZOFFSETFROM:+0200
END:DAYLIGHT
END:VTIMEZONE
END:VCALENDAR
