BEGIN:VCALENDAR
PRODID:-//eluceo/ical//2.0/EN
VERSION:2.0
CALSCALE:GREGORIAN
BEGIN:VEVENT
UID:17fba5a71c581d24cd7816726614a4f1
DTSTAMP:20260423T001819Z
SUMMARY:Serata Cucina con lo Chef Stellato Bernard Fournier presso Hotel Co
 ronado
DESCRIPTION:Web stranica: https://www.hotelcoronado.ch/it/\nGovornik(ci): S
 erata dedicata alla cucina assistiti dallo Chef stellato Bernard Fournier 
 (https://www.eurotoquesit.com/bernard-fournier/)\, famoso per il suo Foie
  gras.Verranno inoltre abbinati i vini di una cantina prestigiosa italiana
  Alessandro Rivetta di Cremolino (Alessandria)Per i soci che non desideran
 o partecipare all'attività culinaria\, possono iscriversi anche solo alla
  cena.In cucina con lo chef ed i suoi assistenti max 15/16 persone.Cena ma
 x 40 personeVerrà chiesta una partecipazione al socio per la particolarit
 à della serata Stimata tra i 130/150 frs a persona
URL:https://rotary-mendrisiotto.ch/bs/agenda/show/163779
DTSTART;TZID=Europe/Zurich:20230831T180000
DTEND;TZID=Europe/Zurich:20230831T220000
LOCATION:Hotel Coronado\, Via Francesco Borromini 10\, 6850 Mendrisio\, Swi
 tzerland
CATEGORIES:Rotary
END:VEVENT
BEGIN:VTIMEZONE
TZID:Europe/Zurich
BEGIN:DAYLIGHT
DTSTART:20230831T180000
TZNAME:CEST
TZOFFSETTO:+0200
TZOFFSETFROM:+0200
END:DAYLIGHT
END:VTIMEZONE
END:VCALENDAR
