BEGIN:VCALENDAR
PRODID:-//eluceo/ical//2.0/EN
VERSION:2.0
CALSCALE:GREGORIAN
BEGIN:VEVENT
UID:998485984cb6d7ac75c7e932d1fd5921
DTSTAMP:20260423T003837Z
SUMMARY:Grotto privato “Le vacanze”\, Riva San Vitale
DESCRIPTION:Govornik(ci): “I mulinelli del Ceresio: storie di lago” rac
 contate da Giorgio Galfetti
URL:https://rotary-mendrisiotto.ch/bs/agenda/show/163777
DTSTART;TZID=Europe/Zurich:20230824T190000
DTEND;TZID=Europe/Zurich:20230824T220000
LOCATION:Via Pojana 37\, Riva San Vitale\, Switzerland
CATEGORIES:Rotary
END:VEVENT
BEGIN:VTIMEZONE
TZID:Europe/Zurich
BEGIN:DAYLIGHT
DTSTART:20230824T190000
TZNAME:CEST
TZOFFSETTO:+0200
TZOFFSETFROM:+0200
END:DAYLIGHT
END:VTIMEZONE
END:VCALENDAR
