BEGIN:VCALENDAR
PRODID:-//eluceo/ical//2.0/EN
VERSION:2.0
CALSCALE:GREGORIAN
BEGIN:VEVENT
UID:4b3c98a71c7c95297735b18cc033e312
DTSTAMP:20260423T005234Z
SUMMARY:CENA DI CHIUSURA CON ALICE GHISLETTA
DESCRIPTION:Web stranica: https://loverciano.ch\nGovornik(ci): ALICE GHISLE
 TTA\, AVV. SPECIALISTA DI DIRITTO SOCIETARIO\,  COLLABORATRICE PERSONALE 
 DI UN CONSIGLIERE DI STATO E \n\nSEGRETARIA DELL'UFFICIO DI CONCILIAZIONE
  PER I CONTRATTI COLLETTIVI. QUALI I MOLTEPLICI RUOLI DI UNA CONSULENTE PE
 RSONALE DI UN MINISTRO NEL 21° SECOLO TRA PUBBLICO\, PRIVATO E  FORSE "S
 EGRETI DI STATO"?
URL:https://rotary-mendrisiotto.ch/bs/agenda/show/160615
DTSTART;TZID=Europe/Zurich:20230622T190000
DTEND;TZID=Europe/Zurich:20230622T220000
LOCATION:Istituto S Angelo Loverciano\, Via Loverciano 2\, 6874 Castel San 
 Pietro\, Svizzera
CATEGORIES:Rotary
END:VEVENT
BEGIN:VTIMEZONE
TZID:Europe/Zurich
BEGIN:DAYLIGHT
DTSTART:20230622T190000
TZNAME:CEST
TZOFFSETTO:+0200
TZOFFSETFROM:+0200
END:DAYLIGHT
END:VTIMEZONE
END:VCALENDAR
