BEGIN:VCALENDAR
PRODID:-//eluceo/ical//2.0/EN
VERSION:2.0
CALSCALE:GREGORIAN
BEGIN:VEVENT
UID:feddc681379b06e950edfe1935bd53aa
DTSTAMP:20260423T004428Z
SUMMARY:Cena cambio presidente
DESCRIPTION:Web stranica: https://locandasansilvestro.ch/
URL:https://rotary-mendrisiotto.ch/bs/agenda/show/156972
DTSTART;TZID=Europe/Zurich:20230615T190000
DTEND;TZID=Europe/Zurich:20230615T220000
LOCATION:LOCANDA SAN SILVESTRO\, MERIDE
CATEGORIES:Rotary
END:VEVENT
BEGIN:VTIMEZONE
TZID:Europe/Zurich
BEGIN:DAYLIGHT
DTSTART:20230615T190000
TZNAME:CEST
TZOFFSETTO:+0200
TZOFFSETFROM:+0200
END:DAYLIGHT
END:VTIMEZONE
END:VCALENDAR
