BEGIN:VCALENDAR
PRODID:-//eluceo/ical//2.0/EN
VERSION:2.0
CALSCALE:GREGORIAN
BEGIN:VEVENT
UID:7547bb3a0258166752fdd3b48b89acf2
DTSTAMP:20260423T095315Z
SUMMARY:Cena con ROTARACT
DESCRIPTION:Web stranica: https://loverciano.ch
URL:https://rotary-mendrisiotto.ch/bs/agenda/show/156970
DTSTART;TZID=Europe/Zurich:20230525T181500
DTEND;TZID=Europe/Zurich:20230525T211500
LOCATION:Istituto S Angelo Loverciano\, Via Loverciano 2\, 6874 Castel San 
 Pietro\, Svizzera
CATEGORIES:Rotary
END:VEVENT
BEGIN:VTIMEZONE
TZID:Europe/Zurich
BEGIN:DAYLIGHT
DTSTART:20230525T181500
TZNAME:CEST
TZOFFSETTO:+0200
TZOFFSETFROM:+0200
END:DAYLIGHT
END:VTIMEZONE
END:VCALENDAR
