BEGIN:VCALENDAR
PRODID:-//eluceo/ical//2.0/EN
VERSION:2.0
CALSCALE:GREGORIAN
BEGIN:VEVENT
UID:c27ff600cf26ad48b797f2c9f1fd8681
DTSTAMP:20260423T022134Z
SUMMARY:evento con e per Greenhope
DESCRIPTION:Web stranica: https://www.greenhope.ch/it\nGovornik(ci): Luca C
 ereghetti di Greenhope e Matteo Quadranti per RC
URL:https://rotary-mendrisiotto.ch/bs/agenda/show/156965
DTSTART;TZID=Europe/Zurich:20230422T123000
DTEND;TZID=Europe/Zurich:20230422T170000
LOCATION:Ritrovo Stazione Capolago alle 12.10 partenza  trenino 12.30 Monte
  Generoso
CATEGORIES:Rotary
END:VEVENT
BEGIN:VTIMEZONE
TZID:Europe/Zurich
BEGIN:DAYLIGHT
DTSTART:20230422T123000
TZNAME:CEST
TZOFFSETTO:+0200
TZOFFSETFROM:+0200
END:DAYLIGHT
END:VTIMEZONE
END:VCALENDAR
