BEGIN:VCALENDAR
PRODID:-//eluceo/ical//2.0/EN
VERSION:2.0
CALSCALE:GREGORIAN
BEGIN:VEVENT
UID:e8beef72cec171fa144cf18fc2e94a47
DTSTAMP:20260423T060432Z
SUMMARY:INTERCLUB A MILANO CON RC MILANO DIGITAL
DESCRIPTION:Web stranica: https://www.uptownpalace.com/it\nGovornik(ci): RI
 TROVO PER CAR POOLINGPARCHEGGIO CENTRO BREGGIA IN FONDO VERSO MULINOSOSTIT
 UISCE LA COLAZIONE EL 9.3.2023
URL:https://rotary-mendrisiotto.ch/bs/agenda/show/156065
DTSTART;TZID=Europe/Zurich:20230307T183000
DTEND;TZID=Europe/Zurich:20230307T231500
LOCATION:Hotel Updown Palace\, Via Santa Sofia 10\, 20122 Milano
CATEGORIES:Rotary
END:VEVENT
BEGIN:VTIMEZONE
TZID:Europe/Zurich
BEGIN:STANDARD
DTSTART:20230307T183000
TZNAME:CET
TZOFFSETTO:+0100
TZOFFSETFROM:+0100
END:STANDARD
END:VTIMEZONE
END:VCALENDAR
