BEGIN:VCALENDAR
PRODID:-//eluceo/ical//2.0/EN
VERSION:2.0
CALSCALE:GREGORIAN
BEGIN:VEVENT
UID:b962355d9b2bd129ec0a098555957d67
DTSTAMP:20260423T021001Z
SUMMARY:Cena con prolusione Eleonora Castagnetta Botta
DESCRIPTION:Govornik(ci): Prolusione EC\, visita e racconto degli spazi del
  Teatro dell'Architettura e standing dinner ore 18.30
URL:https://rotary-mendrisiotto.ch/bs/agenda/show/155291
DTSTART;TZID=Europe/Zurich:20230302T181500
DTEND;TZID=Europe/Zurich:20230302T223000
LOCATION:RITROVO PRESSO TEATRO DELL'ARCHITETTURA MENDRISIO Via Turconi 25
CATEGORIES:Rotary
END:VEVENT
BEGIN:VTIMEZONE
TZID:Europe/Zurich
BEGIN:STANDARD
DTSTART:20230302T181500
TZNAME:CET
TZOFFSETTO:+0100
TZOFFSETFROM:+0100
END:STANDARD
END:VTIMEZONE
END:VCALENDAR
