BEGIN:VCALENDAR
PRODID:-//eluceo/ical//2.0/EN
VERSION:2.0
CALSCALE:GREGORIAN
BEGIN:VEVENT
UID:5d7d42f7d979adce922bb29bc3b52556
DTSTAMP:20260423T074444Z
SUMMARY:Mercatino di Natale - turni di presenza allo stand
DESCRIPTION:
URL:https://rotary-mendrisiotto.ch/bs/agenda/show/150894
DTSTART;TZID=Europe/Zurich:20221208T100000
DTEND;TZID=Europe/Zurich:20221208T180000
LOCATION:Chiasso
CATEGORIES:Rotary
END:VEVENT
BEGIN:VTIMEZONE
TZID:Europe/Zurich
BEGIN:STANDARD
DTSTART:20221208T100000
TZNAME:CET
TZOFFSETTO:+0100
TZOFFSETFROM:+0100
END:STANDARD
END:VTIMEZONE
END:VCALENDAR
