BEGIN:VCALENDAR
PRODID:-//eluceo/ical//2.0/EN
VERSION:2.0
CALSCALE:GREGORIAN
BEGIN:VEVENT
UID:1316a7d350f3477f9a3752b0daac7f5a
DTSTAMP:20260423T041204Z
SUMMARY:Lara Serri e quartetto - concerto e cena
DESCRIPTION:Web stranica: https://www.valswine.ch/it/home-it-2/\nGovornik(c
 i): Catering in loco organizzato da Grotto Moderno
URL:https://rotary-mendrisiotto.ch/bs/agenda/show/150886
DTSTART;TZID=Europe/Zurich:20221110T190000
DTEND;TZID=Europe/Zurich:20221110T230000
LOCATION:Cantine Valsangiacomo\, Mendrisio
CATEGORIES:Rotary
END:VEVENT
BEGIN:VTIMEZONE
TZID:Europe/Zurich
BEGIN:STANDARD
DTSTART:20221110T190000
TZNAME:CET
TZOFFSETTO:+0100
TZOFFSETFROM:+0100
END:STANDARD
END:VTIMEZONE
END:VCALENDAR
