BEGIN:VCALENDAR
PRODID:-//eluceo/ical//2.0/EN
VERSION:2.0
CALSCALE:GREGORIAN
BEGIN:VEVENT
UID:0de3eecb7da9fddfea02fce72aaf4d13
DTSTAMP:20260423T051620Z
SUMMARY:Colazione di lavoro Mövenpic
DESCRIPTION:
URL:https://rotary-mendrisiotto.ch/bs/agenda/show/147879
DTSTART;TZID=Europe/Zurich:20220811T070000
DTEND;TZID=Europe/Zurich:20220811T090000
LOCATION:c/o Mövenpic Chiasso
CATEGORIES:Rotary
END:VEVENT
BEGIN:VTIMEZONE
TZID:Europe/Zurich
BEGIN:DAYLIGHT
DTSTART:20220811T070000
TZNAME:CEST
TZOFFSETTO:+0200
TZOFFSETFROM:+0200
END:DAYLIGHT
END:VTIMEZONE
END:VCALENDAR
