BEGIN:VCALENDAR
PRODID:-//eluceo/ical//2.0/EN
VERSION:2.0
CALSCALE:GREGORIAN
BEGIN:VEVENT
UID:283a3407b00987e0986dc5d4828690c7
DTSTAMP:20260423T050207Z
SUMMARY:colazione di lavoro
DESCRIPTION:
URL:https://rotary-mendrisiotto.ch/bs/agenda/show/147036
DTSTART;TZID=Europe/Zurich:20220728T070000
DTEND;TZID=Europe/Zurich:20220728T070000
LOCATION:Mövenpick Chiasso
CATEGORIES:Rotary
END:VEVENT
BEGIN:VTIMEZONE
TZID:Europe/Zurich
BEGIN:DAYLIGHT
DTSTART:20220728T070000
TZNAME:CEST
TZOFFSETTO:+0200
TZOFFSETFROM:+0200
END:DAYLIGHT
END:VTIMEZONE
END:VCALENDAR
