BEGIN:VCALENDAR
PRODID:-//eluceo/ical//2.0/EN
VERSION:2.0
CALSCALE:GREGORIAN
BEGIN:VEVENT
UID:9a420d76c308e4cb8ebf6daa508e4e9d
DTSTAMP:20260423T062829Z
SUMMARY:DIGITAL MARKETING VIA GOOGLE - Carriere fuori dall'ordinario
DESCRIPTION:Web stranica: http://linkedin.com/in/nicola-camponovotps://love
 rciano.ch\nGovornik(ci):   Nicola Camponovo| MBA Consulente Senior Digita
 l Marketing | | di Project  
URL:https://rotary-mendrisiotto.ch/bs/agenda/show/145264
DTSTART;TZID=Europe/Zurich:20220707T190000
DTEND;TZID=Europe/Zurich:20220707T220000
LOCATION:Istituto S Angelo Loverciano\, Via Loverciano 2\, 6874 Castel San 
 Pietro\, Svizzera
CATEGORIES:Rotary
END:VEVENT
BEGIN:VTIMEZONE
TZID:Europe/Zurich
BEGIN:DAYLIGHT
DTSTART:20220707T190000
TZNAME:CEST
TZOFFSETTO:+0200
TZOFFSETFROM:+0200
END:DAYLIGHT
END:VTIMEZONE
END:VCALENDAR
