BEGIN:VCALENDAR
PRODID:-//eluceo/ical//2.0/EN
VERSION:2.0
CALSCALE:GREGORIAN
BEGIN:VEVENT
UID:5305eb4e390cf63a4cae64b0b6825489
DTSTAMP:20260423T131725Z
SUMMARY:IL TRUST DI DIRITTO SVIZZERO
DESCRIPTION:Web stranica: https://loverciano.ch\nGovornik(ci): Simona Genin
 i\, Giovanni Merlini
URL:https://rotary-mendrisiotto.ch/bs/agenda/show/139502
DTSTART;TZID=Europe/Zurich:20220331T183000
DTEND;TZID=Europe/Zurich:20220331T213000
LOCATION:Istituto S Angelo Loverciano\, Via Loverciano 2\, 6874 Castel San 
 Pietro\, Svizzera
CATEGORIES:Rotary
END:VEVENT
BEGIN:VTIMEZONE
TZID:Europe/Zurich
BEGIN:DAYLIGHT
DTSTART:20220331T183000
TZNAME:CEST
TZOFFSETTO:+0200
TZOFFSETFROM:+0200
END:DAYLIGHT
END:VTIMEZONE
END:VCALENDAR
