BEGIN:VCALENDAR
PRODID:-//eluceo/ical//2.0/EN
VERSION:2.0
CALSCALE:GREGORIAN
BEGIN:VEVENT
UID:8636e19d7a54b69a4f9aaa0b63db545a
DTSTAMP:20260423T125954Z
SUMMARY:VISITA GUIDATA M.A.X. MUSEO
DESCRIPTION:Web stranica: https://www.centroculturalechiasso.ch/m-a-x-museo
 /
URL:https://rotary-mendrisiotto.ch/bs/agenda/show/139498
DTSTART;TZID=Europe/Zurich:20220326T140000
DTEND;TZID=Europe/Zurich:20220326T170000
LOCATION:Via Dante Alighieri 3 B  Chiasso
CATEGORIES:Rotary
END:VEVENT
BEGIN:VTIMEZONE
TZID:Europe/Zurich
BEGIN:STANDARD
DTSTART:20220326T140000
TZNAME:CET
TZOFFSETTO:+0100
TZOFFSETFROM:+0100
END:STANDARD
END:VTIMEZONE
END:VCALENDAR
