BEGIN:VCALENDAR
PRODID:-//eluceo/ical//2.0/EN
VERSION:2.0
CALSCALE:GREGORIAN
BEGIN:VEVENT
UID:53da6fee79846a79f70fa78f83233805
DTSTAMP:20260423T082301Z
SUMMARY:Bansky a Lugano
DESCRIPTION:Web stranica: https://it.banksylugano.ch\nGovornik(ci): si racc
 omanda la puntualità: h 18\,30SEGUE CENA
URL:https://rotary-mendrisiotto.ch/bs/agenda/show/137334
DTSTART;TZID=Europe/Zurich:20220317T183000
DTEND;TZID=Europe/Zurich:20220317T203000
LOCATION:Villa Ciani\, Lugano
CATEGORIES:Rotary
END:VEVENT
BEGIN:VTIMEZONE
TZID:Europe/Zurich
BEGIN:STANDARD
DTSTART:20220317T183000
TZNAME:CET
TZOFFSETTO:+0100
TZOFFSETFROM:+0100
END:STANDARD
END:VTIMEZONE
END:VCALENDAR
